BEGIN:VCALENDAR
VERSION:2.0
PRODID:-//eventon.com NONSGML v1.0//EN
CALSCALE:GREGORIAN
METHOD:PUBLISH
BEGIN:VEVENT
UID:69e9f1a813ea3
DTSTAMP:20260423T101712Z
DTSTART:20260626
DTEND:20260627
LOCATION:
SUMMARY:Sommerfest für Werkstatt-Beschäftigte
DESCRIPTION:Betriebsinterne Veranstaltung nur für Beschäftigte der Celler
  Werkstätten\nhttps://lebenshilfe-celle.de/events/sommerfest-fuer-werkstat
 t-beschaeftigte/
URL:https://lebenshilfe-celle.de/events/sommerfest-fuer-werkstatt-beschaeftigte/
END:VEVENT
END:VCALENDAR