BEGIN:VCALENDAR
VERSION:2.0
PRODID:-//eventon.com NONSGML v1.0//EN
CALSCALE:GREGORIAN
METHOD:PUBLISH
BEGIN:VEVENT
UID:69e4e95b958e1
DTSTAMP:20260419T144027Z
DTSTART:20260618
DTEND:20260619
LOCATION:
SUMMARY:Ehrungen langjähriger Werkstatt-Beschäftigter
DESCRIPTION:\nhttps://lebenshilfe-celle.de/events/ehrungen-langjaehriger-we
 rkstatt-beschaeftigter/
URL:https://lebenshilfe-celle.de/events/ehrungen-langjaehriger-werkstatt-beschaeftigter/
END:VEVENT
END:VCALENDAR