BEGIN:VCALENDAR
VERSION:2.0
PRODID:-//eventon.com NONSGML v1.0//EN
CALSCALE:GREGORIAN
METHOD:PUBLISH
BEGIN:VEVENT
UID:69e9f1d11001c
DTSTAMP:20260423T101753Z
DTSTART:20260530T090000Z
DTEND:20260530T160000Z
LOCATION:
SUMMARY:Altenceller Dorfmarkt
DESCRIPTION:\nhttps://lebenshilfe-celle.de/events/altenceller-dorfmarkt/
URL:https://lebenshilfe-celle.de/events/altenceller-dorfmarkt/
END:VEVENT
END:VCALENDAR