BEGIN:VCALENDAR
VERSION:2.0
PRODID:-//eventon.com NONSGML v1.0//EN
CALSCALE:GREGORIAN
METHOD:PUBLISH
BEGIN:VEVENT
UID:69e4e8fdd8994
DTSTAMP:20260419T143853Z
DTSTART:20260423T160000Z
DTEND:20260423T200000Z
LOCATION:
SUMMARY:D.I.S.C.O barrierefreies Tanzvergnügen
DESCRIPTION:Barrierefrei Tanzen\,  nette Leute treffen und einen tollen Abe
 nd genießen! Dauer ca. 4 Stunden Hier wird viel gelacht und getanzt Eintri
 ttspreis bei 5\, 00€ Mehr Informationen finden Sie unter www.cd-kaserne.d
 e\nhttps://lebenshilfe-celle.de/events/d-i-s-c-o-barrierefreies-tanzvergnue
 gen-2/
URL:https://lebenshilfe-celle.de/events/d-i-s-c-o-barrierefreies-tanzvergnuegen-2/
END:VEVENT
END:VCALENDAR