BEGIN:VCALENDAR
VERSION:2.0
PRODID:-//eventon.com NONSGML v1.0//EN
CALSCALE:GREGORIAN
METHOD:PUBLISH
BEGIN:VEVENT
UID:69e4e8992bda9
DTSTAMP:20260419T143713Z
DTSTART:20260706
DTEND:20260707
LOCATION:
SUMMARY:Betriebspause Celler Werkstätten\,  nur in der Betriebsstätte Groß Hehlen (ZAC)
DESCRIPTION:Wir haben geschlossen!\nhttps://lebenshilfe-celle.de/events/bet
 riebspause-celler-werkstaetten-nur-in-der-betriebsstaette-gross-hehlen-zac/
URL:https://lebenshilfe-celle.de/events/betriebspause-celler-werkstaetten-nur-in-der-betriebsstaette-gross-hehlen-zac/
END:VEVENT
END:VCALENDAR