BEGIN:VCALENDAR
VERSION:2.0
PRODID:-//eventon.com NONSGML v1.0//EN
CALSCALE:GREGORIAN
METHOD:PUBLISH
BEGIN:VEVENT
UID:69e4e8b43f6bc
DTSTAMP:20260419T143740Z
DTSTART:20260720
DTEND:20260721
LOCATION:
SUMMARY:Betriebspause Frühkindliche Bildung und Comenius Schule an allen Standorten
DESCRIPTION:Wir haben geschlossen!\nhttps://lebenshilfe-celle.de/events/bet
 riebspause-fruehkindliche-bildung-und-comenius-schule-an-allen-standorten/
URL:https://lebenshilfe-celle.de/events/betriebspause-fruehkindliche-bildung-und-comenius-schule-an-allen-standorten/
END:VEVENT
END:VCALENDAR