BEGIN:VCALENDAR
VERSION:2.0
PRODID:-//eventon.com NONSGML v1.0//EN
CALSCALE:GREGORIAN
METHOD:PUBLISH
BEGIN:VEVENT
UID:69e4e8e97bb01
DTSTAMP:20260419T143833Z
DTSTART:20260727
DTEND:20260728
LOCATION:
SUMMARY:Betriebspause in den Tagesförderstätten
DESCRIPTION:Wir haben geschlossen!\nhttps://lebenshilfe-celle.de/events/bet
 riebspause-in-den-tagesfoerderstaetten/
URL:https://lebenshilfe-celle.de/events/betriebspause-in-den-tagesfoerderstaetten/
END:VEVENT
END:VCALENDAR