BEGIN:VCALENDAR
VERSION:2.0
PRODID:-//eventon.com NONSGML v1.0//EN
CALSCALE:GREGORIAN
METHOD:PUBLISH
BEGIN:VEVENT
UID:69e4e9414c23f
DTSTAMP:20260419T144001Z
DTSTART:20260727T130000Z
DTEND:20260727T180000Z
LOCATION:
SUMMARY:DRK Blutspende -öffentlich-
DESCRIPTION:Schenke Leben &#8211; Spende Blut\nhttps://lebenshilfe-celle.de
 /events/drk-blutspende-oeffentlich-2/
URL:https://lebenshilfe-celle.de/events/drk-blutspende-oeffentlich-2/
END:VEVENT
END:VCALENDAR