BEGIN:VCALENDAR
VERSION:2.0
PRODID:-//eventon.com NONSGML v1.0//EN
CALSCALE:GREGORIAN
METHOD:PUBLISH
BEGIN:VEVENT
UID:69eb4835d51d8
DTSTAMP:20260424T103845Z
DTSTART:20260330
DTEND:20260331
LOCATION:
SUMMARY:Betriebspause Celler Werkstätten\,  nur in der Betriebsstätte Nienhagen
DESCRIPTION:Wir haben geschlossen!\nhttps://lebenshilfe-celle.de/events/bet
 riebspause-celler-werkstaetten/
URL:https://lebenshilfe-celle.de/events/betriebspause-celler-werkstaetten/
END:VEVENT
END:VCALENDAR